BEGIN:VCALENDAR
VERSION:2.0
PRODID:-//weselspielt.de - ECPv6.15.20//NONSGML v1.0//EN
CALSCALE:GREGORIAN
METHOD:PUBLISH
X-WR-CALNAME:weselspielt.de
X-ORIGINAL-URL:https://weselspielt.de
X-WR-CALDESC:Veranstaltungen für weselspielt.de
REFRESH-INTERVAL;VALUE=DURATION:PT1H
X-Robots-Tag:noindex
X-PUBLISHED-TTL:PT1H
BEGIN:VTIMEZONE
TZID:Europe/Berlin
BEGIN:DAYLIGHT
TZOFFSETFROM:+0100
TZOFFSETTO:+0200
TZNAME:CEST
DTSTART:20240331T010000
END:DAYLIGHT
BEGIN:STANDARD
TZOFFSETFROM:+0200
TZOFFSETTO:+0100
TZNAME:CET
DTSTART:20241027T010000
END:STANDARD
BEGIN:DAYLIGHT
TZOFFSETFROM:+0100
TZOFFSETTO:+0200
TZNAME:CEST
DTSTART:20250330T010000
END:DAYLIGHT
BEGIN:STANDARD
TZOFFSETFROM:+0200
TZOFFSETTO:+0100
TZNAME:CET
DTSTART:20251026T010000
END:STANDARD
BEGIN:DAYLIGHT
TZOFFSETFROM:+0100
TZOFFSETTO:+0200
TZNAME:CEST
DTSTART:20260329T010000
END:DAYLIGHT
BEGIN:STANDARD
TZOFFSETFROM:+0200
TZOFFSETTO:+0100
TZNAME:CET
DTSTART:20261025T010000
END:STANDARD
END:VTIMEZONE
BEGIN:VEVENT
DTSTART;VALUE=DATE:20250405
DTEND;VALUE=DATE:20250407
DTSTAMP:20260425T001546
CREATED:20250402T215731Z
LAST-MODIFIED:20250402T215731Z
UID:9533-1743811200-1743983999@weselspielt.de
SUMMARY:Brettspiele-Flohmarkt im Scala Pop-Up-Store
DESCRIPTION:Ob Klassiker\, Raritäten oder das nächste Lieblingsspiel – beim Brettspiele-Flohmarkt im Pop-up Store gibt es am 5. und 6. April eine riesige Auswahl an Spielen für jede Altersklasse\, jeden Geschmack und Geldbeutel!\n\n \n\n\n\nStöbert durch spannende Strategie-Kracher\, lustige Partyspiele\, kreative Kinderspiele und vieles mehr. Ihr sucht etwas Bestimmtes oder wollt euch inspirieren lassen? Kein Problem! Die Mitglieder von wESEL spielt e.V. stehen euch mit fachkundiger Beratung zur Seite.\n\n\nKommt vorbei\, entdeckt großartige Spiele und lasst euch von der Begeisterung fürs Spielen anstecken!\n\n\n Ort: Wilhelmstraße 8 -10\, 46483 Wesel\n Datum: 5.4.25 11 bis 17 Uhr & 6.4.25 13 bis 16 Uhr\n Für alle\, die Spiele lieben!
URL:https://weselspielt.de/event/brettspiele-flohmarkt-im-scala-pop-up-store/
LOCATION:Scala Pop-Up-Store\, Wilhelmstraße 8 - 10\, Wesel\, NRW\, 46483\, Germany
ORGANIZER;CN="wESEL spielt e.V":MAILTO:info@weselspielt.de
END:VEVENT
END:VCALENDAR