BEGIN:VCALENDAR
VERSION:2.0
PRODID:-//weselspielt.de - ECPv6.15.20//NONSGML v1.0//EN
CALSCALE:GREGORIAN
METHOD:PUBLISH
X-WR-CALNAME:weselspielt.de
X-ORIGINAL-URL:https://weselspielt.de
X-WR-CALDESC:Veranstaltungen für weselspielt.de
REFRESH-INTERVAL;VALUE=DURATION:PT1H
X-Robots-Tag:noindex
X-PUBLISHED-TTL:PT1H
BEGIN:VTIMEZONE
TZID:Europe/Berlin
BEGIN:DAYLIGHT
TZOFFSETFROM:+0100
TZOFFSETTO:+0200
TZNAME:CEST
DTSTART:20240331T010000
END:DAYLIGHT
BEGIN:STANDARD
TZOFFSETFROM:+0200
TZOFFSETTO:+0100
TZNAME:CET
DTSTART:20241027T010000
END:STANDARD
BEGIN:DAYLIGHT
TZOFFSETFROM:+0100
TZOFFSETTO:+0200
TZNAME:CEST
DTSTART:20250330T010000
END:DAYLIGHT
BEGIN:STANDARD
TZOFFSETFROM:+0200
TZOFFSETTO:+0100
TZNAME:CET
DTSTART:20251026T010000
END:STANDARD
BEGIN:DAYLIGHT
TZOFFSETFROM:+0100
TZOFFSETTO:+0200
TZNAME:CEST
DTSTART:20260329T010000
END:DAYLIGHT
BEGIN:STANDARD
TZOFFSETFROM:+0200
TZOFFSETTO:+0100
TZNAME:CET
DTSTART:20261025T010000
END:STANDARD
END:VTIMEZONE
BEGIN:VEVENT
DTSTART;TZID=Europe/Berlin:20250531T110000
DTEND;TZID=Europe/Berlin:20250531T150000
DTSTAMP:20260424T212307
CREATED:20250506T171814Z
LAST-MODIFIED:20250506T172547Z
UID:9924-1748689200-1748703600@weselspielt.de
SUMMARY:Meet & Play in der Mayerschen Buchhandlung
DESCRIPTION:Wir werden wieder in der Mayerschen Buchhandung\, in Wesel – Stadtmitte sein. Dort werden wir ein paar Spiele vorstellen\, mit Euch spielen\, Eure Fragen rund um Brettspiele beantworten und ein paar schöne Stunden mit Euch verbringen. Kommt doch vorbei und lernt uns und die Brettspielwelt kennen. Diese bietet für jeden etwas und einen kleinen Teil davon könnt Ihr beim Meet & Play mit und von uns kennenlernen. \nWir freuen uns auf Euch !
URL:https://weselspielt.de/event/meet-play-in-der-mayerschen-buchhandlung-4/
LOCATION:Mayersche Buchhandlung\, Hohe Straße 20 - 22\, Wesel\, NRW\, 46483\, Deutschland
ORGANIZER;CN="Mayersche Buchhandlung":MAILTO:info-wesel@thalia.de
END:VEVENT
END:VCALENDAR