BEGIN:VCALENDAR
VERSION:2.0
PRODID:-//weselspielt.de - ECPv6.15.20//NONSGML v1.0//EN
CALSCALE:GREGORIAN
METHOD:PUBLISH
X-ORIGINAL-URL:https://weselspielt.de
X-WR-CALDESC:Veranstaltungen für weselspielt.de
REFRESH-INTERVAL;VALUE=DURATION:PT1H
X-Robots-Tag:noindex
X-PUBLISHED-TTL:PT1H
BEGIN:VTIMEZONE
TZID:Europe/Berlin
BEGIN:DAYLIGHT
TZOFFSETFROM:+0100
TZOFFSETTO:+0200
TZNAME:CEST
DTSTART:20240331T010000
END:DAYLIGHT
BEGIN:STANDARD
TZOFFSETFROM:+0200
TZOFFSETTO:+0100
TZNAME:CET
DTSTART:20241027T010000
END:STANDARD
BEGIN:DAYLIGHT
TZOFFSETFROM:+0100
TZOFFSETTO:+0200
TZNAME:CEST
DTSTART:20250330T010000
END:DAYLIGHT
BEGIN:STANDARD
TZOFFSETFROM:+0200
TZOFFSETTO:+0100
TZNAME:CET
DTSTART:20251026T010000
END:STANDARD
BEGIN:DAYLIGHT
TZOFFSETFROM:+0100
TZOFFSETTO:+0200
TZNAME:CEST
DTSTART:20260329T010000
END:DAYLIGHT
BEGIN:STANDARD
TZOFFSETFROM:+0200
TZOFFSETTO:+0100
TZNAME:CET
DTSTART:20261025T010000
END:STANDARD
END:VTIMEZONE
BEGIN:VEVENT
DTSTART;VALUE=DATE:20251115
DTEND;VALUE=DATE:20251116
DTSTAMP:20260420T064407
CREATED:20250302T130551Z
LAST-MODIFIED:20251102T110423Z
UID:9522-1763164800-1763251199@weselspielt.de
SUMMARY:3. Weseler Spieletag
DESCRIPTION:Viele Spielebegeisterte haben sich zu unserem Spieletag im Weseler Kanu Club angemeldet.  Wir freuen uns drauf den Tag mit euch zu verbringen\, neue Spiele kennenzulernen und bekannte Spiele neu zu erleben. \nWir beginnen am Samstag 15.11.2025 um 11 Uhr. \nWir dürfen uns in diesem Jahr wieder über die Verpflegung des Weseler Kanu Clubs freuen. D. h. Speisen und Getränke können für einen fairen Preis vor Ort erworben werden. Außerdem stehen Kuchen und weitere verschiedene Leckereien für euch bereit\, die ebenfalls für einen Obolus erworben werden können. \nInformationen zur Anfahrt und Parkmöglichkeiten: \nAnfahrtsbeschreibung: \nWeseler Kanu Club \nAm Yachthafen 3 \n46487 Wesel \nStartpunkt Kreuzung B8 / Fischertorstraße \n\nFahrt auf die Fischertorstraße\nweiter geradeaus auf die Rheinpromenade vorbei am Welcome Hotel und dem Rheinbad\ndann auf die Römerwardt bis auf der rechten Seite der Flugplatz zu sehen ist\ndann fahrt links in die Sackgasse Am Yachthafen abbiegen (nicht über den Deich)\n\nStartpunkt Kreuzung B8 / Nordstraße \n\nAbbiegen auf den “Auedamm” vorbei am Auestadion und dem Auesee\nÜber den Deich auf die Römerwardt\nKurz danach rechts in die Sackgasse Am Yachthafen abbiegen\n\nParkmöglichkeiten: Direkt am Weseler Kanu Club (P1) stehen uns nur begrenzt Parkplätze zur Verfügung. Dort gilt eine Höchstparkdauer von 3h und die Parkscheibe muss entsprechend gestellt werden. Weicht bitte auch auf den Taucherparkplatz (P2)\, den Aueseeparkplatz (P3) und auf den Parkplatz am Rheinbad (P4) aus oder bildet Fahrgemeinschaften. Auf den Parkplätzen (P2 bis P4) fallen täglich von 9 bis 19 Uhr Gebühren (1\,20€ je Std.) an. Die Höchstparkdauer beträgt 10 Stunden. Bitte beachtet aber auch jeweils die Beschilderung. Der Kanu Club ist von allen Ausweichparkplätzen fußläufig in wenigen Minuten erreichbar. \nÖffentlicher Nahverkehr: An der Bushaltestelle “Am Rheinbad” sowie an der Haltestelle “Am Auestadion” fährt Stündlich die Linie 78 Richtung Wesel Schulzentrum Nord oder Richtung Wesel Bahnhof. Vom Bahnhof aus fahren Busse unter anderem nach Oberhausen\, Bocholt und Emmerich. \n \nBei Fragen wendet euch gerne an vorstand@weselspielt.de
URL:https://weselspielt.de/event/3-weseler-spieletag/
LOCATION:Weseler Kanu Club\, Am Yachthafen 3\, Wesel\, NRW\, 46487\, Deutschland
ORGANIZER;CN="wESEL spielt e.V":MAILTO:info@weselspielt.de
END:VEVENT
END:VCALENDAR