BEGIN:VCALENDAR
VERSION:2.0
PRODID:-//weselspielt.de - ECPv6.15.20//NONSGML v1.0//EN
CALSCALE:GREGORIAN
METHOD:PUBLISH
X-ORIGINAL-URL:https://weselspielt.de
X-WR-CALDESC:Veranstaltungen für weselspielt.de
REFRESH-INTERVAL;VALUE=DURATION:PT1H
X-Robots-Tag:noindex
X-PUBLISHED-TTL:PT1H
BEGIN:VTIMEZONE
TZID:Europe/Berlin
BEGIN:DAYLIGHT
TZOFFSETFROM:+0100
TZOFFSETTO:+0200
TZNAME:CEST
DTSTART:20250330T010000
END:DAYLIGHT
BEGIN:STANDARD
TZOFFSETFROM:+0200
TZOFFSETTO:+0100
TZNAME:CET
DTSTART:20251026T010000
END:STANDARD
BEGIN:DAYLIGHT
TZOFFSETFROM:+0100
TZOFFSETTO:+0200
TZNAME:CEST
DTSTART:20260329T010000
END:DAYLIGHT
BEGIN:STANDARD
TZOFFSETFROM:+0200
TZOFFSETTO:+0100
TZNAME:CET
DTSTART:20261025T010000
END:STANDARD
BEGIN:DAYLIGHT
TZOFFSETFROM:+0100
TZOFFSETTO:+0200
TZNAME:CEST
DTSTART:20270328T010000
END:DAYLIGHT
BEGIN:STANDARD
TZOFFSETFROM:+0200
TZOFFSETTO:+0100
TZNAME:CET
DTSTART:20271031T010000
END:STANDARD
END:VTIMEZONE
BEGIN:VEVENT
DTSTART;TZID=Europe/Berlin:20260114T183000
DTEND;TZID=Europe/Berlin:20260114T220000
DTSTAMP:20260420T032627
CREATED:20251102T114512Z
LAST-MODIFIED:20251225T152007Z
UID:12384-1768415400-1768428000@weselspielt.de
SUMMARY:##++ AUSVERKAUFT ++##  Bingoabend mit dem wESEL spielt e.V.
DESCRIPTION:Der Abend ist Ausverkauft! \nMacht euch bereit für einen Abend voller Spaß\, Spannung und toller Gewinne! \nAm Mittwoch\, den 14. Januar 2026\, laden wir euch herzlich zu unserem Bingoabend in den Weseler Kanu Club. \n📅 Datum: 14.01.2026🕡 Einlass: 18:30 Uhr🎲 Beginn: 19:00 Uhr \nDer Eintritt kostet 8\,00€. \nBeim Einlass erhaltet ihr gegen Vorlage der Eintrittskarte eure Bingoscheine für den Abend. \nRestkarten könnt ihr im Weseler Kanu Club auf Anfrage erwerben.
URL:https://weselspielt.de/event/bingoabend-mit-dem-wesel-spielt-e-v/
LOCATION:Weseler Kanu Club\, Am Yachthafen 3\, Wesel\, NRW\, 46487\, Deutschland
ORGANIZER;CN="wESEL spielt e.V":MAILTO:info@weselspielt.de
END:VEVENT
END:VCALENDAR