BEGIN:VCALENDAR
VERSION:2.0
PRODID:-//weselspielt.de - ECPv6.15.20//NONSGML v1.0//EN
CALSCALE:GREGORIAN
METHOD:PUBLISH
X-ORIGINAL-URL:https://weselspielt.de
X-WR-CALDESC:Veranstaltungen für weselspielt.de
REFRESH-INTERVAL;VALUE=DURATION:PT1H
X-Robots-Tag:noindex
X-PUBLISHED-TTL:PT1H
BEGIN:VTIMEZONE
TZID:Europe/Berlin
BEGIN:DAYLIGHT
TZOFFSETFROM:+0100
TZOFFSETTO:+0200
TZNAME:CEST
DTSTART:20250330T010000
END:DAYLIGHT
BEGIN:STANDARD
TZOFFSETFROM:+0200
TZOFFSETTO:+0100
TZNAME:CET
DTSTART:20251026T010000
END:STANDARD
BEGIN:DAYLIGHT
TZOFFSETFROM:+0100
TZOFFSETTO:+0200
TZNAME:CEST
DTSTART:20260329T010000
END:DAYLIGHT
BEGIN:STANDARD
TZOFFSETFROM:+0200
TZOFFSETTO:+0100
TZNAME:CET
DTSTART:20261025T010000
END:STANDARD
BEGIN:DAYLIGHT
TZOFFSETFROM:+0100
TZOFFSETTO:+0200
TZNAME:CEST
DTSTART:20270328T010000
END:DAYLIGHT
BEGIN:STANDARD
TZOFFSETFROM:+0200
TZOFFSETTO:+0100
TZNAME:CET
DTSTART:20271031T010000
END:STANDARD
END:VTIMEZONE
BEGIN:VEVENT
DTSTART;TZID=Europe/Berlin:20260321T110000
DTEND;TZID=Europe/Berlin:20260321T150000
DTSTAMP:20260419T233128
CREATED:20260301T183051Z
LAST-MODIFIED:20260301T183051Z
UID:13709-1774090800-1774105200@weselspielt.de
SUMMARY:Meet & Play in der Mayerschen Buchhandlung Wesel
DESCRIPTION:Samstag noch nichts vor?  \nMögt Ihr Brettspiele? Möchtet Ihr etwas Neues ausprobieren? Oder einfach ein bisschen fachsimpeln?  \nAm Samstag 21.03.2026 sind wir erneut von 11 bis 15 Uhr bei der Mayersche Buchhandlung (Thalia) in Wesel.  \nNutzt die Gelegenheit und kommt am 21.03.2026 in der Mayerschen Buchhandlung (Thalia\, Hohe Straße 20-22) vorbei. Im hinteren Teil der Buchhandlung präsentieren unsere Erklärbären von 11 bis 15 Uhr eine kleine\, aber feine Spieleauswahl.  \nAußerdem stehen unsere Mitglieder für alle Fragen rund um Brettspiele bereit. Braucht Ihr eine Empfehlung oder Einschätzung zu eurem Wunschspiel? Dann sprecht uns einfach an!
URL:https://weselspielt.de/event/meet-play-in-der-mayerschen-buchhandlung-wesel/
LOCATION:Mayersche Buchhandlung\, Hohe Straße 20 - 22\, Wesel\, NRW\, 46483\, Deutschland
ORGANIZER;CN="wESEL spielt e.V":MAILTO:info@weselspielt.de
END:VEVENT
END:VCALENDAR