BEGIN:VCALENDAR
VERSION:2.0
PRODID:-//weselspielt.de - ECPv6.15.20//NONSGML v1.0//EN
CALSCALE:GREGORIAN
METHOD:PUBLISH
X-WR-CALNAME:weselspielt.de
X-ORIGINAL-URL:https://weselspielt.de
X-WR-CALDESC:Veranstaltungen für weselspielt.de
REFRESH-INTERVAL;VALUE=DURATION:PT1H
X-Robots-Tag:noindex
X-PUBLISHED-TTL:PT1H
BEGIN:VTIMEZONE
TZID:Europe/Berlin
BEGIN:DAYLIGHT
TZOFFSETFROM:+0100
TZOFFSETTO:+0200
TZNAME:CEST
DTSTART:20250330T010000
END:DAYLIGHT
BEGIN:STANDARD
TZOFFSETFROM:+0200
TZOFFSETTO:+0100
TZNAME:CET
DTSTART:20251026T010000
END:STANDARD
BEGIN:DAYLIGHT
TZOFFSETFROM:+0100
TZOFFSETTO:+0200
TZNAME:CEST
DTSTART:20260329T010000
END:DAYLIGHT
BEGIN:STANDARD
TZOFFSETFROM:+0200
TZOFFSETTO:+0100
TZNAME:CET
DTSTART:20261025T010000
END:STANDARD
BEGIN:DAYLIGHT
TZOFFSETFROM:+0100
TZOFFSETTO:+0200
TZNAME:CEST
DTSTART:20270328T010000
END:DAYLIGHT
BEGIN:STANDARD
TZOFFSETFROM:+0200
TZOFFSETTO:+0100
TZNAME:CET
DTSTART:20271031T010000
END:STANDARD
END:VTIMEZONE
BEGIN:VEVENT
DTSTART;VALUE=DATE:20260411
DTEND;VALUE=DATE:20260413
DTSTAMP:20260419T220805
CREATED:20251003T161705Z
LAST-MODIFIED:20251003T162009Z
UID:12104-1775865600-1776038399@weselspielt.de
SUMMARY:Ratinger Spieletage 2026
DESCRIPTION:Wir sind wieder vor Ort und stöbern durch die Gänge der Ratinger Spieletage. Mittlerweile ein fester Termin im Spielekalender. Kommt mit\, lasst uns gemeinsam Neues entdecken!
URL:https://weselspielt.de/event/ratinger-spieletage-2026/
LOCATION:Stadthalle Ratingen\, Schützenstraße 1\, Ratingen\, NRW\, 40878\, Deutschland
ORGANIZER;CN="Stadt Ratingen%2C Ratinger Spieletage":MAILTO:info@ratinger-spieletage.de
END:VEVENT
END:VCALENDAR