BEGIN:VCALENDAR
VERSION:2.0
PRODID:-//weselspielt.de - ECPv6.15.20//NONSGML v1.0//EN
CALSCALE:GREGORIAN
METHOD:PUBLISH
X-WR-CALNAME:weselspielt.de
X-ORIGINAL-URL:https://weselspielt.de
X-WR-CALDESC:Veranstaltungen für weselspielt.de
REFRESH-INTERVAL;VALUE=DURATION:PT1H
X-Robots-Tag:noindex
X-PUBLISHED-TTL:PT1H
BEGIN:VTIMEZONE
TZID:Europe/Berlin
BEGIN:DAYLIGHT
TZOFFSETFROM:+0100
TZOFFSETTO:+0200
TZNAME:CEST
DTSTART:20240331T010000
END:DAYLIGHT
BEGIN:STANDARD
TZOFFSETFROM:+0200
TZOFFSETTO:+0100
TZNAME:CET
DTSTART:20241027T010000
END:STANDARD
BEGIN:DAYLIGHT
TZOFFSETFROM:+0100
TZOFFSETTO:+0200
TZNAME:CEST
DTSTART:20250330T010000
END:DAYLIGHT
BEGIN:STANDARD
TZOFFSETFROM:+0200
TZOFFSETTO:+0100
TZNAME:CET
DTSTART:20251026T010000
END:STANDARD
BEGIN:DAYLIGHT
TZOFFSETFROM:+0100
TZOFFSETTO:+0200
TZNAME:CEST
DTSTART:20260329T010000
END:DAYLIGHT
BEGIN:STANDARD
TZOFFSETFROM:+0200
TZOFFSETTO:+0100
TZNAME:CET
DTSTART:20261025T010000
END:STANDARD
END:VTIMEZONE
BEGIN:VEVENT
DTSTART;TZID=Europe/Berlin:20250604T180000
DTEND;TZID=Europe/Berlin:20250604T220000
DTSTAMP:20260424T194300
CREATED:20241222T154057Z
LAST-MODIFIED:20250302T115834Z
UID:8503-1749060000-1749074400@weselspielt.de
SUMMARY:Spieleabend im Weseler Kanu Club
DESCRIPTION:Öffentlicher Spieleabend im Weseler Kanu Club. Kommet und spielet. Es ist immer eine große Auswahl an Spielen vorhanden\, aber Ihr könnt natürlich auch gerne Spiele mitbringen\, die Ihr spielen möchtet. \nDie Teilnahme am Spieleabend ist KOSTENFREI und alle dürfen mitmachen! Bei der Gaststätte bestellte Speisen und Getränke müssen natürlich selbst getragen werden. Ihr seid das erste mal dabei? Wir empfangen Euch am Eingang und erklären Euch den Ablauf. Auch wenn grad niemand am Eingang steht\, haben wir immer ein Auge\, ob jemand Neues angekommen ist. Es ist genau in dem Moment niemand von uns am Eingang\, es kommt nicht sofort jemand auf Euch zu und Ihr fragt Euch\, was Ihr machen sollt/könnt/dürft ? Dann sprecht uns an! Vereinsmitglieder tragen entweder ein T-Shirt mit Logo und Namen oder ein Namensschild mit Logo und Namen.\nWir haben für alle ein passendes Spiel und jede/jeder kommt in einer Spielerunde unter. Habt einfach einen schönen Abend mit uns. \nWir freuen uns auf Euch !
URL:https://weselspielt.de/event/spieleabend-im-weseler-kanu-club-29/
LOCATION:Weseler Kanu Club\, Am Yachthafen 3\, Wesel\, NRW\, 46487\, Deutschland
ORGANIZER;CN="wESEL spielt e.V":MAILTO:info@weselspielt.de
END:VEVENT
BEGIN:VEVENT
DTSTART;TZID=Europe/Berlin:20250615T120000
DTEND;TZID=Europe/Berlin:20250615T180000
DTSTAMP:20260424T194300
CREATED:20250302T111623Z
LAST-MODIFIED:20250302T111703Z
UID:9481-1749988800-1750010400@weselspielt.de
SUMMARY:Spielehimmel - Familienspieletag in Kamp Lintfort
DESCRIPTION:Daniel von Schachtbrett veranstaltet einen Familien Spieletag in Kamp Lintfort und wir sind ein Teil davon. \nKommt vorbei\, die Veranstaltung ist kostenfrei\, und spielt mit uns. Wir freuen uns auf Euch !
URL:https://weselspielt.de/event/familienspieletag-in-kamp-lintfort/
LOCATION:Spielehimmel\, Geisbruchstraße 20\, Kamp Lintfort\, NRW\, 47475
ORGANIZER;CN="Schachtbrett":MAILTO:daniel@schachtbrett.de
END:VEVENT
BEGIN:VEVENT
DTSTART;TZID=Europe/Berlin:20250619T180000
DTEND;TZID=Europe/Berlin:20250619T220000
DTSTAMP:20260424T194300
CREATED:20241222T154238Z
LAST-MODIFIED:20250302T115853Z
UID:8505-1750356000-1750370400@weselspielt.de
SUMMARY:Spieleabend im Weseler Kanu Club
DESCRIPTION:Öffentlicher Spieleabend im Weseler Kanu Club. Kommet und spielet. Es ist immer eine große Auswahl an Spielen vorhanden\, aber Ihr könnt natürlich auch gerne Spiele mitbringen\, die Ihr spielen möchtet. \nDie Teilnahme am Spieleabend ist KOSTENFREI und alle dürfen mitmachen! Bei der Gaststätte bestellte Speisen und Getränke müssen natürlich selbst getragen werden. Ihr seid das erste mal dabei? Wir empfangen Euch am Eingang und erklären Euch den Ablauf. Auch wenn grad niemand am Eingang steht\, haben wir immer ein Auge\, ob jemand Neues angekommen ist. Es ist genau in dem Moment niemand von uns am Eingang\, es kommt nicht sofort jemand auf Euch zu und Ihr fragt Euch\, was Ihr machen sollt/könnt/dürft ? Dann sprecht uns an! Vereinsmitglieder tragen entweder ein T-Shirt mit Logo und Namen oder ein Namensschild mit Logo und Namen.\nWir haben für alle ein passendes Spiel und jede/jeder kommt in einer Spielerunde unter. Habt einfach einen schönen Abend mit uns. \nWir freuen uns auf Euch !
URL:https://weselspielt.de/event/spieleabend-im-weseler-kanu-club-30/
LOCATION:Weseler Kanu Club\, Am Yachthafen 3\, Wesel\, NRW\, 46487\, Deutschland
ORGANIZER;CN="wESEL spielt e.V":MAILTO:info@weselspielt.de
END:VEVENT
END:VCALENDAR