BEGIN:VCALENDAR
VERSION:2.0
PRODID:-//weselspielt.de - ECPv6.15.20//NONSGML v1.0//EN
CALSCALE:GREGORIAN
METHOD:PUBLISH
X-ORIGINAL-URL:https://weselspielt.de
X-WR-CALDESC:Veranstaltungen für weselspielt.de
REFRESH-INTERVAL;VALUE=DURATION:PT1H
X-Robots-Tag:noindex
X-PUBLISHED-TTL:PT1H
BEGIN:VTIMEZONE
TZID:Europe/Berlin
BEGIN:DAYLIGHT
TZOFFSETFROM:+0100
TZOFFSETTO:+0200
TZNAME:CEST
DTSTART:20240331T010000
END:DAYLIGHT
BEGIN:STANDARD
TZOFFSETFROM:+0200
TZOFFSETTO:+0100
TZNAME:CET
DTSTART:20241027T010000
END:STANDARD
BEGIN:DAYLIGHT
TZOFFSETFROM:+0100
TZOFFSETTO:+0200
TZNAME:CEST
DTSTART:20250330T010000
END:DAYLIGHT
BEGIN:STANDARD
TZOFFSETFROM:+0200
TZOFFSETTO:+0100
TZNAME:CET
DTSTART:20251026T010000
END:STANDARD
BEGIN:DAYLIGHT
TZOFFSETFROM:+0100
TZOFFSETTO:+0200
TZNAME:CEST
DTSTART:20260329T010000
END:DAYLIGHT
BEGIN:STANDARD
TZOFFSETFROM:+0200
TZOFFSETTO:+0100
TZNAME:CET
DTSTART:20261025T010000
END:STANDARD
END:VTIMEZONE
BEGIN:VEVENT
DTSTART;TZID=Europe/Berlin:20251203T180000
DTEND;TZID=Europe/Berlin:20251203T220000
DTSTAMP:20260420T032736
CREATED:20241222T161043Z
LAST-MODIFIED:20250302T120210Z
UID:8527-1764784800-1764799200@weselspielt.de
SUMMARY:Spieleabend im Weseler Kanu Club
DESCRIPTION:Öffentlicher Spieleabend im Weseler Kanu Club. Kommet und spielet. Es ist immer eine große Auswahl an Spielen vorhanden\, aber Ihr könnt natürlich auch gerne Spiele mitbringen\, die Ihr spielen möchtet. \nDie Teilnahme am Spieleabend ist KOSTENFREI und alle dürfen mitmachen! Bei der Gaststätte bestellte Speisen und Getränke müssen natürlich selbst getragen werden. Ihr seid das erste mal dabei? Wir empfangen Euch am Eingang und erklären Euch den Ablauf. Auch wenn grad niemand am Eingang steht\, haben wir immer ein Auge\, ob jemand Neues angekommen ist. Es ist genau in dem Moment niemand von uns am Eingang\, es kommt nicht sofort jemand auf Euch zu und Ihr fragt Euch\, was Ihr machen sollt/könnt/dürft ? Dann sprecht uns an! Vereinsmitglieder tragen entweder ein T-Shirt mit Logo und Namen oder ein Namensschild mit Logo und Namen.\nWir haben für alle ein passendes Spiel und jede/jeder kommt in einer Spielerunde unter. Habt einfach einen schönen Abend mit uns. \nWir freuen uns auf Euch !
URL:https://weselspielt.de/event/spieleabend-im-weseler-kanu-club-41/
LOCATION:Weseler Kanu Club\, Am Yachthafen 3\, Wesel\, NRW\, 46487\, Deutschland
ORGANIZER;CN="wESEL spielt e.V":MAILTO:info@weselspielt.de
END:VEVENT
BEGIN:VEVENT
DTSTART;TZID=Europe/Berlin:20251218T180000
DTEND;TZID=Europe/Berlin:20251218T220000
DTSTAMP:20260420T032736
CREATED:20241222T161140Z
LAST-MODIFIED:20251204T201410Z
UID:8529-1766080800-1766095200@weselspielt.de
SUMMARY:Spieleabend im Weseler Kanu Club - Weihnachtsedition mit Spiele-Schrott-Wichteln
DESCRIPTION:Öffentlicher Spieleabend im Weseler Kanu Club. Kommet und spielet. Es ist immer eine große Auswahl an Spielen vorhanden\, aber Ihr könnt natürlich auch gerne Spiele mitbringen\, die Ihr spielen möchtet. \nWir möchten mit einer kleinen Aktion das Spielejahr ausklingen lassen: Lasst uns Spiele-Schrott-Wichteln! \nWer kann mitmachen?\nAlle\, die an diesem Abend im Weseler Kanu Club vorbeikommen und Lust aufs Wichteln haben. \nWas bringe ich mit?\nSucht euch ein ausrangiertes\, kurioses oder einfach nur verrücktes Spiel aus eurem Spieleschrank oder der hintersten Ecke der Schublade aus\, welches ihr gerne gegen ein anderes Spiel tauschen möchtet. Packt es in Zeitungspapier ein und bringt es mit zum Spieleabend. \nWie läuft das Wichteln ab? \n\nAlle Spiele werden zu Beginn des Abends abgegeben und durchnummeriert.\nGegen 19:30 Uhr ziehen alle\, die mitmachen\, eine Nummer.\nHabt ihr eure eigene Nummer gezogen? Kein Problem – dann wird einfach noch einmal getauscht.\n\nFreut euch auf einen lustigen Abend voller Spiele\, Überraschungen und kleinen Schätzen aus den Spieleschränken der anderen! 🃏🎁 \nAnsonsten gilt wie immer: \nDie Teilnahme am Spieleabend ist KOSTENFREI und alle dürfen mitmachen! Bei der Gaststätte bestellte Speisen und Getränke müssen natürlich selbst getragen werden. Ihr seid das erste mal dabei? Wir empfangen Euch am Eingang und erklären Euch den Ablauf. Auch wenn grad niemand am Eingang steht\, haben wir immer ein Auge\, ob jemand Neues angekommen ist. Es ist genau in dem Moment niemand von uns am Eingang\, es kommt nicht sofort jemand auf Euch zu und Ihr fragt Euch\, was Ihr machen sollt/könnt/dürft ? Dann sprecht uns an! Vereinsmitglieder tragen entweder ein T-Shirt mit Logo und Namen oder ein Namensschild mit Logo und Namen.\nWir haben für alle ein passendes Spiel und jede/jeder kommt in einer Spielerunde unter. Habt einfach einen schönen Abend mit uns. \nWir freuen uns auf Euch !
URL:https://weselspielt.de/event/spieleabend-im-weseler-kanu-club-42/
LOCATION:Weseler Kanu Club\, Am Yachthafen 3\, Wesel\, NRW\, 46487\, Deutschland
ORGANIZER;CN="wESEL spielt e.V":MAILTO:info@weselspielt.de
END:VEVENT
END:VCALENDAR