BEGIN:VCALENDAR
VERSION:2.0
PRODID:-//weselspielt.de - ECPv6.15.20//NONSGML v1.0//EN
CALSCALE:GREGORIAN
METHOD:PUBLISH
X-WR-CALNAME:weselspielt.de
X-ORIGINAL-URL:https://weselspielt.de
X-WR-CALDESC:Veranstaltungen für weselspielt.de
REFRESH-INTERVAL;VALUE=DURATION:PT1H
X-Robots-Tag:noindex
X-PUBLISHED-TTL:PT1H
BEGIN:VTIMEZONE
TZID:Europe/Berlin
BEGIN:DAYLIGHT
TZOFFSETFROM:+0100
TZOFFSETTO:+0200
TZNAME:CEST
DTSTART:20250330T010000
END:DAYLIGHT
BEGIN:STANDARD
TZOFFSETFROM:+0200
TZOFFSETTO:+0100
TZNAME:CET
DTSTART:20251026T010000
END:STANDARD
BEGIN:DAYLIGHT
TZOFFSETFROM:+0100
TZOFFSETTO:+0200
TZNAME:CEST
DTSTART:20260329T010000
END:DAYLIGHT
BEGIN:STANDARD
TZOFFSETFROM:+0200
TZOFFSETTO:+0100
TZNAME:CET
DTSTART:20261025T010000
END:STANDARD
BEGIN:DAYLIGHT
TZOFFSETFROM:+0100
TZOFFSETTO:+0200
TZNAME:CEST
DTSTART:20270328T010000
END:DAYLIGHT
BEGIN:STANDARD
TZOFFSETFROM:+0200
TZOFFSETTO:+0100
TZNAME:CET
DTSTART:20271031T010000
END:STANDARD
END:VTIMEZONE
BEGIN:VEVENT
DTSTART;VALUE=DATE:20260501
DTEND;VALUE=DATE:20260504
DTSTAMP:20260419T220713
CREATED:20251003T162937Z
LAST-MODIFIED:20251003T162937Z
UID:12108-1777593600-1777852799@weselspielt.de
SUMMARY:SpieleWahnsinn in Herne 2026
DESCRIPTION:Vom 01. bis 03. Mai 2026 findet im Spielzentrum in Herne der 43. Spielewahnsinn statt. \nWir werden sicherlich durch die Gänge stöbern und auf der Suche nach neuen Lieblingsspielen sein. \nSchlendert ihr auch durch die Gänge? Sehen wir uns dort?
URL:https://weselspielt.de/event/spielewahnsinn-in-herne-2026/
LOCATION:Kulturzentrum Herne\, Berliner Platz 11\, Herne\, NRW\, 44623\, Deutschland
ORGANIZER;CN="Spielezentrum Herne":MAILTO:info-spz@spielezentrum.de
END:VEVENT
BEGIN:VEVENT
DTSTART;TZID=Europe/Berlin:20260506T180000
DTEND;TZID=Europe/Berlin:20260506T220000
DTSTAMP:20260419T220713
CREATED:20251022T105752Z
LAST-MODIFIED:20251022T105752Z
UID:12298-1778090400-1778104800@weselspielt.de
SUMMARY:Spieleabend im Weseler Kanu Club
DESCRIPTION:Öffentlicher Spieleabend im Weseler Kanu Club. Kommet und spielet. Es ist immer eine große Auswahl an Spielen vorhanden\, aber Ihr könnt natürlich auch gerne Spiele mitbringen\, die Ihr spielen möchtet. \nDie Teilnahme am Spieleabend ist KOSTENFREI und alle dürfen mitmachen! Bei der Gaststätte bestellte Speisen und Getränke müssen natürlich selbst getragen werden. Ihr seid das erste mal dabei? Wir empfangen Euch am Eingang und erklären Euch den Ablauf. Auch wenn grad niemand am Eingang steht\, haben wir immer ein Auge\, ob jemand Neues angekommen ist. Es ist genau in dem Moment niemand von uns am Eingang\, es kommt nicht sofort jemand auf Euch zu und Ihr fragt Euch\, was Ihr machen sollt/könnt/dürft ? Dann sprecht uns an! Vereinsmitglieder tragen entweder ein T-Shirt mit Logo und Namen oder ein Namensschild mit Logo und Namen.\nWir haben für alle ein passendes Spiel und jede/jeder kommt in einer Spielerunde unter. Habt einfach einen schönen Abend mit uns. \nWir freuen uns auf Euch
URL:https://weselspielt.de/event/spieleabend-im-weseler-kanu-club-50/
LOCATION:Weseler Kanu Club\, Am Yachthafen 3\, Wesel\, NRW\, 46487\, Deutschland
ORGANIZER;CN="wESEL spielt e.V":MAILTO:info@weselspielt.de
END:VEVENT
BEGIN:VEVENT
DTSTART;VALUE=DATE:20260516
DTEND;VALUE=DATE:20260518
DTSTAMP:20260419T220713
CREATED:20260301T185333Z
LAST-MODIFIED:20260301T185807Z
UID:13713-1778889600-1779062399@weselspielt.de
SUMMARY:NiederrheinCon 2026 in Dinslaken
DESCRIPTION:Auch 2026 findet wieder die NiederrheinCon statt und wir sind natürlich dabei. Besucht uns im ND Jugendzentrum in Dinslaken. \nProbiert Rollenspiele\, Tabletop und Brettspiele aus. \nWir dürfen erneut den Brettspielbereich gestalten. Wann ihr uns wo findet\, teilen wir rechtzeitig mit! \nWelche Verlage\, Autoren oder Vereine mit vor Ort sind erfahrt ihr auf der Webseite der NRC. \n 
URL:https://weselspielt.de/event/niederrheincon-2026-in-dinslaken/
LOCATION:ND Jugendzentrum\, Beethovenstraße 6\, Dinslaken\, NRW\, 46535\, Deutschland
ORGANIZER;CN="NRC":MAILTO:service@niederrhein-con.de
END:VEVENT
BEGIN:VEVENT
DTSTART;TZID=Europe/Berlin:20260521T180000
DTEND;TZID=Europe/Berlin:20260521T220000
DTSTAMP:20260419T220713
CREATED:20251022T105850Z
LAST-MODIFIED:20251022T105850Z
UID:12300-1779386400-1779400800@weselspielt.de
SUMMARY:Spieleabend im Weseler Kanu Club
DESCRIPTION:Öffentlicher Spieleabend im Weseler Kanu Club. Kommet und spielet. Es ist immer eine große Auswahl an Spielen vorhanden\, aber Ihr könnt natürlich auch gerne Spiele mitbringen\, die Ihr spielen möchtet. \nDie Teilnahme am Spieleabend ist KOSTENFREI und alle dürfen mitmachen! Bei der Gaststätte bestellte Speisen und Getränke müssen natürlich selbst getragen werden. Ihr seid das erste mal dabei? Wir empfangen Euch am Eingang und erklären Euch den Ablauf. Auch wenn grad niemand am Eingang steht\, haben wir immer ein Auge\, ob jemand Neues angekommen ist. Es ist genau in dem Moment niemand von uns am Eingang\, es kommt nicht sofort jemand auf Euch zu und Ihr fragt Euch\, was Ihr machen sollt/könnt/dürft ? Dann sprecht uns an! Vereinsmitglieder tragen entweder ein T-Shirt mit Logo und Namen oder ein Namensschild mit Logo und Namen.\nWir haben für alle ein passendes Spiel und jede/jeder kommt in einer Spielerunde unter. Habt einfach einen schönen Abend mit uns. \nWir freuen uns auf Euch
URL:https://weselspielt.de/event/spieleabend-im-weseler-kanu-club-51/
LOCATION:Weseler Kanu Club\, Am Yachthafen 3\, Wesel\, NRW\, 46487\, Deutschland
ORGANIZER;CN="wESEL spielt e.V":MAILTO:info@weselspielt.de
END:VEVENT
END:VCALENDAR