BEGIN:VCALENDAR
VERSION:2.0
PRODID:-//weselspielt.de - ECPv6.15.20//NONSGML v1.0//EN
CALSCALE:GREGORIAN
METHOD:PUBLISH
X-ORIGINAL-URL:https://weselspielt.de
X-WR-CALDESC:Veranstaltungen für weselspielt.de
REFRESH-INTERVAL;VALUE=DURATION:PT1H
X-Robots-Tag:noindex
X-PUBLISHED-TTL:PT1H
BEGIN:VTIMEZONE
TZID:Europe/Berlin
BEGIN:DAYLIGHT
TZOFFSETFROM:+0100
TZOFFSETTO:+0200
TZNAME:CEST
DTSTART:20250330T010000
END:DAYLIGHT
BEGIN:STANDARD
TZOFFSETFROM:+0200
TZOFFSETTO:+0100
TZNAME:CET
DTSTART:20251026T010000
END:STANDARD
BEGIN:DAYLIGHT
TZOFFSETFROM:+0100
TZOFFSETTO:+0200
TZNAME:CEST
DTSTART:20260329T010000
END:DAYLIGHT
BEGIN:STANDARD
TZOFFSETFROM:+0200
TZOFFSETTO:+0100
TZNAME:CET
DTSTART:20261025T010000
END:STANDARD
BEGIN:DAYLIGHT
TZOFFSETFROM:+0100
TZOFFSETTO:+0200
TZNAME:CEST
DTSTART:20270328T010000
END:DAYLIGHT
BEGIN:STANDARD
TZOFFSETFROM:+0200
TZOFFSETTO:+0100
TZNAME:CET
DTSTART:20271031T010000
END:STANDARD
END:VTIMEZONE
BEGIN:VEVENT
DTSTART;TZID=Europe/Berlin:20261007T180000
DTEND;TZID=Europe/Berlin:20261007T220000
DTSTAMP:20260420T063045
CREATED:20260111T125850Z
LAST-MODIFIED:20260111T125850Z
UID:13073-1791396000-1791410400@weselspielt.de
SUMMARY:Spieleabend im Weseler Kanu Club
DESCRIPTION:Öffentlicher Spieleabend im Weseler Kanu Club. Kommet und spielet. Es ist immer eine große Auswahl an Spielen vorhanden\, aber Ihr könnt natürlich auch gerne Spiele mitbringen\, die Ihr spielen möchtet. \nDie Teilnahme am Spieleabend ist KOSTENFREI und alle dürfen mitmachen! Bei der Gaststätte bestellte Speisen und Getränke müssen natürlich selbst getragen werden. Ihr seid das erste mal dabei? Wir empfangen Euch am Eingang und erklären Euch den Ablauf. Auch wenn grad niemand am Eingang steht\, haben wir immer ein Auge\, ob jemand Neues angekommen ist. Es ist genau in dem Moment niemand von uns am Eingang\, es kommt nicht sofort jemand auf Euch zu und Ihr fragt Euch\, was Ihr machen sollt/könnt/dürft ? Dann sprecht uns an! Vereinsmitglieder tragen entweder ein T-Shirt mit Logo und Namen oder ein Namensschild mit Logo und Namen.\nWir haben für alle ein passendes Spiel und jede/jeder kommt in einer Spielerunde unter. Habt einfach einen schönen Abend mit uns. \nWir freuen uns auf Euch!
URL:https://weselspielt.de/event/spieleabend-im-weseler-kanu-club-60/
LOCATION:Weseler Kanu Club\, Am Yachthafen 3\, Wesel\, NRW\, 46487\, Deutschland
ORGANIZER;CN="wESEL spielt e.V":MAILTO:info@weselspielt.de
END:VEVENT
BEGIN:VEVENT
DTSTART;TZID=Europe/Berlin:20261014T190000
DTEND;TZID=Europe/Berlin:20261014T220000
DTSTAMP:20260420T063045
CREATED:20260301T194402Z
LAST-MODIFIED:20260319T214649Z
UID:13723-1792004400-1792015200@weselspielt.de
SUMMARY:### Ausverkauft - Scala Quiz 9.0 ###
DESCRIPTION:Am 14. Oktober 2026 ist es wieder soweit. Wir laden zum SCALA QUIZ ins Scala Kulturspielhaus ein. Wir haben uns wieder unterschiedliche Quizrunden einfallen lassen. Wieder eine Mischung aus Bekanntem und Neuem\, mit völlig neuen Fragen und Aufgaben. Euer Allgemeinwissen ist gefragt und für jede Runde gibt es Punkte. Die Gesamtpunktzahl am Ende entscheidet\, welches Team gewonnen hat und einen Preis gewinnt. \nDurch die unterschiedlich gestalteten Runden bleibt es den ganzen Abend über spannend. Habt Ihr Lust mitzuraten? Wart Ihr schon bei einem unserer Quizabende und es hat Euch gefallen? Ihr wolltet schon immer mal an einem Quizabend teilnehmen? Alle sind herzlich Willkommen!! \nIhr könnt in Teams mit bis zu 6 Teammitgliedern antreten. Aus räumlichen und und organisatorischen Gründen ist die Teamanzahl begrenzt. Auf Grund der begrenzten Teilnehmerzahl solltet Ihr Euch rechtzeitig entscheiden und Karten online im unten genannten Ticketshop des SCALA Kulturspielhauses kaufen. Die Tickets werden ausschließlich darüber vertrieben. Schaut doch mal auf der Seite des Kulturspielhauses vorbei!
URL:https://weselspielt.de/event/scala-quiz-9-0/
LOCATION:Scala Kulturspielhaus\, Wilhelmstraße 8 - 10\, Wesel\, NRW\, 46483\, Deutschland
ORGANIZER;CN="Scala Kulturspielhaus":MAILTO:k.nienhaus@scala-kulturspielhaus.de
END:VEVENT
BEGIN:VEVENT
DTSTART;TZID=Europe/Berlin:20261015T180000
DTEND;TZID=Europe/Berlin:20261015T220000
DTSTAMP:20260420T063045
CREATED:20260111T130002Z
LAST-MODIFIED:20260111T130002Z
UID:13075-1792087200-1792101600@weselspielt.de
SUMMARY:Spieleabend im Weseler Kanu Club
DESCRIPTION:Öffentlicher Spieleabend im Weseler Kanu Club. Kommet und spielet. Es ist immer eine große Auswahl an Spielen vorhanden\, aber Ihr könnt natürlich auch gerne Spiele mitbringen\, die Ihr spielen möchtet. \nDie Teilnahme am Spieleabend ist KOSTENFREI und alle dürfen mitmachen! Bei der Gaststätte bestellte Speisen und Getränke müssen natürlich selbst getragen werden. Ihr seid das erste mal dabei? Wir empfangen Euch am Eingang und erklären Euch den Ablauf. Auch wenn grad niemand am Eingang steht\, haben wir immer ein Auge\, ob jemand Neues angekommen ist. Es ist genau in dem Moment niemand von uns am Eingang\, es kommt nicht sofort jemand auf Euch zu und Ihr fragt Euch\, was Ihr machen sollt/könnt/dürft ? Dann sprecht uns an! Vereinsmitglieder tragen entweder ein T-Shirt mit Logo und Namen oder ein Namensschild mit Logo und Namen.\nWir haben für alle ein passendes Spiel und jede/jeder kommt in einer Spielerunde unter. Habt einfach einen schönen Abend mit uns. \nWir freuen uns auf Euch!
URL:https://weselspielt.de/event/spieleabend-im-weseler-kanu-club-61/
LOCATION:Weseler Kanu Club\, Am Yachthafen 3\, Wesel\, NRW\, 46487\, Deutschland
ORGANIZER;CN="wESEL spielt e.V":MAILTO:info@weselspielt.de
END:VEVENT
BEGIN:VEVENT
DTSTART;VALUE=DATE:20261022
DTEND;VALUE=DATE:20261026
DTSTAMP:20260420T063045
CREATED:20260111T131604Z
LAST-MODIFIED:20260111T131604Z
UID:13085-1792627200-1792972799@weselspielt.de
SUMMARY:SPIEL Essen 2026
DESCRIPTION:Wir werden wieder in den unterschiedlichsten Funktionen auf der Spielemesse unterwegs sein. \nTrefft uns in den Gängen\, beim Spielen oder beim Vorstellen von Neuheiten bei den unterschiedlichsten Verlagen.\nWir freuen uns euch zu treffen!
URL:https://weselspielt.de/event/spiel-essen-2026/
LOCATION:Messe Essen\, Messeplatz 1\, Essen\, NRW\, 45313\, Deutschland
ORGANIZER;CN="Friedhelm Merz Verlag GmbH & Co. KG":MAILTO:info@merz-verlag.com
END:VEVENT
END:VCALENDAR